BEGIN:VCALENDAR
VERSION:2.0
PRODID:-//Bamberger Segelclub - ECPv6.15.6//NONSGML v1.0//EN
CALSCALE:GREGORIAN
METHOD:PUBLISH
X-WR-CALNAME:Bamberger Segelclub
X-ORIGINAL-URL:https://bamberger-segelclub.de/blog
X-WR-CALDESC:Veranstaltungen für Bamberger Segelclub
REFRESH-INTERVAL;VALUE=DURATION:PT1H
X-Robots-Tag:noindex
X-PUBLISHED-TTL:PT1H
BEGIN:VTIMEZONE
TZID:Europe/Berlin
BEGIN:DAYLIGHT
TZOFFSETFROM:+0100
TZOFFSETTO:+0200
TZNAME:CEST
DTSTART:20250330T010000
END:DAYLIGHT
BEGIN:STANDARD
TZOFFSETFROM:+0200
TZOFFSETTO:+0100
TZNAME:CET
DTSTART:20251026T010000
END:STANDARD
BEGIN:DAYLIGHT
TZOFFSETFROM:+0100
TZOFFSETTO:+0200
TZNAME:CEST
DTSTART:20260329T010000
END:DAYLIGHT
BEGIN:STANDARD
TZOFFSETFROM:+0200
TZOFFSETTO:+0100
TZNAME:CET
DTSTART:20261025T010000
END:STANDARD
BEGIN:DAYLIGHT
TZOFFSETFROM:+0100
TZOFFSETTO:+0200
TZNAME:CEST
DTSTART:20270328T010000
END:DAYLIGHT
BEGIN:STANDARD
TZOFFSETFROM:+0200
TZOFFSETTO:+0100
TZNAME:CET
DTSTART:20271031T010000
END:STANDARD
END:VTIMEZONE
BEGIN:VEVENT
DTSTART;TZID=Europe/Berlin:20260425T140000
DTEND;TZID=Europe/Berlin:20260425T170000
DTSTAMP:20260423T145746
CREATED:20251228T200602Z
LAST-MODIFIED:20251228T202538Z
UID:4649-1777125600-1777136400@bamberger-segelclub.de
SUMMARY:Ansegeln: Die neue Segelsaison 2026 startet – mit der 1. Jahres-Regatta
DESCRIPTION:Es geht wieder los: Die Boote sind draußen\, der neue Steg ist aufgebaut und wartet auf die Boote und Segler (und die Enten …): Unsere neue Segelsaison 2026 startet! Und gleich mit der 1. unserer Jahres-Regatten\, mit der wir unsere Vereinsmeisterschaft auch in diesem Jahr wieder aussegeln werden. Wir freuen uns über jeden\, der bei unseren Regatten dabei ist und sind gespannt\, wer am 03.10.2026 die Meisterschaft für sich entscheiden kann. \nStart ist um 14 Uhr auf dem Wasser\, also seid rechtzeitig da\, Mitsegler treffen sich bitte um 13 Uhr 😉\n\n\nDieses Jahr gibt es eine aufregende Neuerung: Wir segeln eine sechste Regatta!\nWir segeln wieder in Teams von 2 bis ca. 4 Personen – die sich diesmal auch schon für eine Saison für ein Boot anmelden können. Dies fördert nicht nur den Teamgeist\, sondern ermöglicht es euch auch\, sich gegenseitig an der Pinne abzuwechseln oder zu vertreten. Eine tolle Chance\, um gemeinsam strategisch zu denken und die Freude am Segeln zu teilen. Es ist aber auch völlig in Ordnung\, wenn es am Ende nur ein oder zwei Teams gibt oder sogar Teams\, die nur aus zwei Personen bestehen. Wir möchten damit allen die Möglichkeit bieten\, aktiv teilzunehmen\, sich auszutauschen und die Saison gemeinsam zu genießen.\n\nUnd damit wir terminlich fexibler sind\, werden wir dieses Jahr sechs Regattatermine anbieten und gleich zwei Streichergebnisse zulassen – also ist auch bei nur vier mitgesegelten Regatten der erste Platz möglich!\n\nBitte bildet eure Teams und teilt mir eure kreativen Teamnamen mit. Jedes Team erhält dann vielleicht sogar auch ein eigenes Logo auf unserem neuen Scoreboard. 😉\n\nViel Spaß und guten Wind!
URL:https://bamberger-segelclub.de/blog/event/ansegeln-die-neue-segelsaison-2026-startet-mit-der-1-jahres-regatta/
LOCATION:Bamberger Segelclub\, Pappelallee\, Sand\, 97522
CATEGORIES:Regatta,Vereinsveranstaltung
ATTACH;FMTTYPE=image/jpeg:https://www.bamberger-segelclub.de/blog/wp-content/uploads/2025/10/IMG_0209.jpg
END:VEVENT
BEGIN:VEVENT
DTSTART;TZID=Europe/Berlin:20260517T140000
DTEND;TZID=Europe/Berlin:20260517T190000
DTSTAMP:20260423T145746
CREATED:20251228T201547Z
LAST-MODIFIED:20251228T201605Z
UID:4651-1779026400-1779044400@bamberger-segelclub.de
SUMMARY:2. Jahresregatta: Der Max-Cup!
DESCRIPTION:In diesem Jahr gibt es eine Neuerung – wir haben einen weiteren Regattatermin auf unserer Liste\, damit die Jahresregatta terminlich flexibler wird und für alle Teams gleich zwei Streichergebnisse bei der Endausscheidung. \nDer Max-Cup\, benannt nach seinem Initiator\, findet an einem Sonntag statt\, um auch bei den Tagen etwas Variation anbieten zu können. Also herzlich Willkommen zum ersten Max-Cup\, am Sonntag\, den 17. Mai. Treffen wieder um 13 Uhr\, Start um 14 Uhr!
URL:https://bamberger-segelclub.de/blog/event/2-jahresregatta-der-max-cup/
LOCATION:Bamberger Segelclub\, Pappelallee\, Sand\, 97522
CATEGORIES:Regatta,Vereinsveranstaltung
ATTACH;FMTTYPE=image/jpeg:https://www.bamberger-segelclub.de/blog/wp-content/uploads/2025/05/ar_-IMG_6039.jpg
END:VEVENT
BEGIN:VEVENT
DTSTART;TZID=Europe/Berlin:20260620T120000
DTEND;TZID=Europe/Berlin:20260620T170000
DTSTAMP:20260423T145746
CREATED:20251228T205634Z
LAST-MODIFIED:20251228T205634Z
UID:4678-1781956800-1781974800@bamberger-segelclub.de
SUMMARY:Segeltraining: Kentertraining
DESCRIPTION:„Freundschaft ist\, wenn dich einer für gutes Schwimmen lobt\, nachdem du beim Segeln gekentert bist.“\nWerner Schneyder \nEin guter Segler ist gut vorbereitet – auch auf die schlechten Situationen. Deshalb werden wir\, zusammen mit der Wasserwacht\, einen Nachmittag lang mit unseren Segelbooten nicht an\, sondern über das Limit gehen: Wir wollen einige Boote zum Kentern bringen und dann das richtige Verhalten üben\, um sie wieder schnell und sicher aufzurichten. Das Motorboot der Wasserwacht wird bereitstehen\, falls mal was nicht so klappt. Schwimmsachen bzw. Neopren sowie Wechselklamotten sind empfehlenswert\, diesmal wollen wir nass werden.
URL:https://bamberger-segelclub.de/blog/event/segeltraining-kentertraining-2/
LOCATION:Bamberger Segelclub\, Pappelallee\, Sand\, 97522
CATEGORIES:Ausbildung,Segeln,Vereinsveranstaltung
ATTACH;FMTTYPE=image/jpeg:https://www.bamberger-segelclub.de/blog/wp-content/uploads/2025/10/IMG_3083.jpg
END:VEVENT
BEGIN:VEVENT
DTSTART;TZID=Europe/Berlin:20260627T140000
DTEND;TZID=Europe/Berlin:20260627T170000
DTSTAMP:20260423T145746
CREATED:20251228T201812Z
LAST-MODIFIED:20251228T201812Z
UID:4654-1782568800-1782579600@bamberger-segelclub.de
SUMMARY:Segeln für Genießer – endlich wieder auf’s Boot
DESCRIPTION:Am Nachmittag vor der schon traditionellen Mondscheinregatta werden wir die Boote schon an den Steg bringen\, damit alle Vereinsmitglieder\, die vielleicht schon  länger nicht mehr auf dem Wasser waren\, wieder lossegeln können – alleine oder auch mit anderen\, geübten Skppern. Dazu gibt es gemütlich Kaffee und Kuchen. \nAb 18 Uhr wird als Start zum stimmungsvollen Abendsegeln bei der Mondscheinregatta der Grill angeschürt. \nHerzliche Einladung an alle zum Lossegeln\, Mitsegeln und Dabeisein!
URL:https://bamberger-segelclub.de/blog/event/segeln-fuer-geniesser-endlich-wieder-aufs-boot-2/
LOCATION:Bamberger Segelclub\, Pappelallee\, Sand\, 97522
CATEGORIES:Segeln,Vereinsveranstaltung
ATTACH;FMTTYPE=image/webp:https://www.bamberger-segelclub.de/blog/wp-content/uploads/2025/08/IMG_9892.webp
END:VEVENT
BEGIN:VEVENT
DTSTART;TZID=Europe/Berlin:20260627T180000
DTEND;TZID=Europe/Berlin:20260627T180000
DTSTAMP:20260423T145746
CREATED:20251228T202135Z
LAST-MODIFIED:20251228T210124Z
UID:4656-1782583200-1782583200@bamberger-segelclub.de
SUMMARY:Johanniabend – Mondscheinregatta – 3. Jahres-Regatta
DESCRIPTION:Unser nächstes Highlight der Saison steht an\, unsere Mondschein-Regatta\, nach dem Johanniabend\, dem längsten Tag des Jahres. \nTreffpunkt ist am Samstag\, 27. Juni ab 18 Uhr am Segelheim. \nWir werden vorher den Grill anschmeißen und uns stärken\, bevor es vor der Dämmerung ab aufs Wasser geht.\nNeue Info: Für Getränke\, Brot und Fleisch (Putensteaks\, Steaks\, Bratwürste) wird gesorgt. Auch die ein oder andere Soße und Grillkäse wird dabei sein.\nIhr könnt gerne Salate u.ä. mitbringen! – Für Getränke\, Brot und Fleisch stellen wir dann wie immer unser Spendenbox auf!  🙂 \nFür stimmungsvolle Bootgestaltung bringt gerne Lichterketten und andere Leuchtaccessoires mit. \nWir hoffen natürlich\, dass wir wieder mit mehr als zehn Booten in die stimmungsvolle Abenddämmerung segeln werden!\nWir freuen uns auf euch und jede Menge Spaß. \nBitte gebt kurz Bescheid\, ob ihr dabei seid. \n  \nAm Nachmittag vor dem Grillen laden wir ein zum »Segeln für Genießer – endlich wieder auf’s Boot«
URL:https://bamberger-segelclub.de/blog/event/johanniabend-mondscheinregatta-3-jahres-regatta/
LOCATION:Bamberger Segelclub\, Pappelallee\, Sand\, 97522
CATEGORIES:Regatta,Segeln,Vereinsveranstaltung
ATTACH;FMTTYPE=image/webp:https://www.bamberger-segelclub.de/blog/wp-content/uploads/2025/06/05_ar_IMG_9344.webp
END:VEVENT
BEGIN:VEVENT
DTSTART;TZID=Europe/Berlin:20260718T140000
DTEND;TZID=Europe/Berlin:20260718T220000
DTSTAMP:20260423T145746
CREATED:20251228T203119Z
LAST-MODIFIED:20251228T205059Z
UID:4659-1784383200-1784412000@bamberger-segelclub.de
SUMMARY:Das traditionelle Sommerfest des BaSC mit 4. Jahres-Regatta
DESCRIPTION:Auch dieses Jahr feiert der Bamberger Segelclub natürlich sein traditionelles Sommerfest und die damit verbundene 4. Jahresregatta. Herzliche Einladung an alle Vereinsmitglieder und Interessenten! \nUm 14 Uhr ist der Startschuss für die Regatta. Freut euch auf spannende Rennen und ein großes Teilnehmerfeld. Auch während der Regatta wird das Sommerfest schon in vollem Gange sein.\nDas Besondere bei diesem Durchgang: Wir werden das Wettsegeln als Wichtelregatta durchführen – alle teilnehmenden Boote werden an die teilnehmenden Teams verlost. Eine spannende Herausforderung! \nNach den Runden um die Bojen geht es weiter mit leckerem Essen und Getränken\, hoffentlich der ein oder anderen musikalischen Einlage 😉 und natürlich ganz viel guter Laune.\nWir sorgen für Grillgut und Getränke – bringt gerne Salate\, Snacks oder Desserts mit\, um das Buffet zu bereichern 🥗🍰.\n\nBitte gebt uns Bescheid\, ob und mit wie vielen Personen ihr kommt\, damit wir besser planen können. Ihr könnt euch per E-Mail\, Telefon oder WhatsApp bei mir melden. Besonders spannend: Wir präsentieren das aktuelle Scoreboard unserer Vereinsmeisterschaft – schaut euch an\, wie die Teams bisher abgeschnitten haben!\n\nWir freuen uns schon jetzt auf einen wunderschönen Tag mit euch allen! Lasst uns gemeinsam die Segel setzen und die Sommerfreuden genießen.
URL:https://bamberger-segelclub.de/blog/event/das-traditionelle-sommerfest-des-basc-mit-4-jahres-regatta/
LOCATION:Bamberger Segelclub\, Pappelallee\, Sand\, 97522
CATEGORIES:Regatta,Vereinsveranstaltung
ATTACH;FMTTYPE=image/jpeg:https://www.bamberger-segelclub.de/blog/wp-content/uploads/2025/05/ar_-IMG_6125.jpg
END:VEVENT
BEGIN:VEVENT
DTSTART;VALUE=DATE:20260731
DTEND;VALUE=DATE:20260803
DTSTAMP:20260423T145746
CREATED:20251228T202809Z
LAST-MODIFIED:20251228T205254Z
UID:4657-1785456000-1785715199@bamberger-segelclub.de
SUMMARY:Segeltraining – Trainingswochenende am Brombachsee
DESCRIPTION:Nach den letzten beiden Jahren geht das Segeltraining auch dieses Jahr wieder auf Tour –und mit dem dritten Mal wird es eine gute Tradition! Wir werden ein Wochenende lang Boote auf dem Brombachsee leihen bzw. unsere eigenen Boote dorthin trailern und das neue Segelrevier erkunden. \nDabei sollen in entspannter und fröhlicher Atmosphäre die allgemeine Bootsbeherrschung verbessert und die verschiedenen Techniken des Jollensegelns verfeinert werden. Dazu werden praktische Übungen und ggf. auch theoretische Erläuterungen angeboten. Alle Interessierten\, die den Spass am Segeln vielleicht auch wieder neu entdecken wollen sind herzlich eingeladen! Als Unterkunft wird wieder der Gasthof „Zur Sonne“ in Theilenhofen/Wachstein dienen. \nWeitere Infos zur Brombachtour folgen!
URL:https://bamberger-segelclub.de/blog/event/segeltraining-trainingswochenende-am-brombachsee/
LOCATION:Brombachsee\, Großer Brombachsee\, Absberg\, 91720\, Deutschland
CATEGORIES:Segeln,Vereinsveranstaltung
ATTACH;FMTTYPE=image/webp:https://www.bamberger-segelclub.de/blog/wp-content/uploads/2025/08/IMG_9967.webp
END:VEVENT
BEGIN:VEVENT
DTSTART;TZID=Europe/Berlin:20260919T140000
DTEND;TZID=Europe/Berlin:20260919T190000
DTSTAMP:20260423T145746
CREATED:20251228T203623Z
LAST-MODIFIED:20251228T205803Z
UID:4664-1789826400-1789844400@bamberger-segelclub.de
SUMMARY:Bamberger Segelmeisterschaften 2025 Teil 1 – Bamberg Open
DESCRIPTION:Nach einer kleinen Sommerpause steht nun endlich unsere Stadtmeisterschaft und damit die 4. Jahresregatta an!\nHierzu möchten wir euch ganz herzlich einladen. \nWie immer gibt es 2 Wettkampftage – dieses Mal sind sie aber thematisch unterschiedlich aufgeteilt: \nTag 1: Samstag\, 19. September\, ab 14 Uhr ist Startschuss für die Regatta für Mitglieder – hierzu laden wir andere Segelvereine und weitere Interessierte herzlich ein! \nTag 2: Sonntag\, 20. September\, ab 12 Uhr ist dann der Startschuss für die 2. Regatta\, die dann als Wettfahrt für unsere Vereinsmeisterschaft zählt! \nWir hoffen wieder sehr auf ein großes Teilnehmerfeld\, gutes Wetter und natürlich Wind.\nDie Abendplanung lassen wir uns noch offen und entscheiden spontan je nach Wetterlage.\nSchön wäre es\, wenn der ein oder andere Kuchen für die kleine Pause am Nachmittag gezaubert oder traditionell gebacken werden könnte. \nWir freuen uns schon jetzt auf zwei schöne Tage mit euch 🙂 \nDanke und liebe Grüße eure Vorstandschaft
URL:https://bamberger-segelclub.de/blog/event/bamberger-segelmeisterschaften-2025-teil-1-bamberg-open/
LOCATION:Bamberger Segelclub\, Pappelallee\, Sand\, 97522
CATEGORIES:Regatta,Vereinsveranstaltung
ATTACH;FMTTYPE=image/jpeg:https://www.bamberger-segelclub.de/blog/wp-content/uploads/2023/10/Regattasteg.jpg
END:VEVENT
BEGIN:VEVENT
DTSTART;TZID=Europe/Berlin:20260920T100000
DTEND;TZID=Europe/Berlin:20260920T170000
DTSTAMP:20260423T145746
CREATED:20251228T203525Z
LAST-MODIFIED:20251228T203839Z
UID:4658-1789898400-1789923600@bamberger-segelclub.de
SUMMARY:Bamberger Segelmeisterschaften 2026 Teil 2 – Start um 10 Uhr!! – Bamberg Open und 5. Jahres-Regatta
DESCRIPTION:Nach einer kleinen Sommerpause steht nun endlich unsere Stadtmeisterschaft und damit die 4. Jahresregatta an!\nHierzu möchten wir euch ganz herzlich einladen. \nWie immer gibt es 2 Wettkampftage – dieses Mal sind sie aber thematisch unterschiedlich aufgeteilt: \nTag 1: Samstag\, 19. September\, ab 14 Uhr ist Startschuss für die Regatta für Mitglieder – hierzu laden wir andere Segelvereine und weitere Interessierte herzlich ein! \nTag 2: Sonntag\, 20. September\, ab 12 Uhr ist dann der Startschuss für die 2. Regatta\, die dann als Wettfahrt für unsere Vereinsmeisterschaft zählt! \nWir hoffen wieder sehr auf ein großes Teilnehmerfeld\, gutes Wetter und natürlich Wind.\nDie Abendplanung lassen wir uns noch offen und entscheiden spontan je nach Wetterlage.\nSchön wäre es\, wenn der ein oder andere Kuchen für die kleine Pause am Nachmittag gezaubert oder traditionell gebacken werden könnte. \nWir freuen uns schon jetzt auf zwei schöne Tage mit euch 🙂 \nDanke und liebe Grüße eure Vorstandschaft
URL:https://bamberger-segelclub.de/blog/event/bamberger-segelmeisterschaften-2026-teil-2-start-um-12-uhr-bamberg-open-und-5-jahres-regatta/
LOCATION:Bamberger Segelclub\, Pappelallee\, Sand\, 97522
CATEGORIES:Regatta,Vereinsveranstaltung
ATTACH;FMTTYPE=image/jpeg:https://www.bamberger-segelclub.de/blog/wp-content/uploads/2023/10/Regattasteg.jpg
END:VEVENT
BEGIN:VEVENT
DTSTART;TZID=Europe/Berlin:20261003T140000
DTEND;TZID=Europe/Berlin:20261003T190000
DTSTAMP:20260423T145746
CREATED:20251228T204312Z
LAST-MODIFIED:20251228T205526Z
UID:4669-1791036000-1791054000@bamberger-segelclub.de
SUMMARY:Absegeln 2026 mit 6. Jahres-Regatta – Treffpunkt 13 h
DESCRIPTION:Der Showdown unserer Segelsaison steht an! Am Samstag\, den 3. Oktober\, treffen wir uns bis spätestens 13 Uhr auf dem Gelände\, um die Boote fertigzumachen und zu Wasser zu lassen. Pünktlich um 14 Uhr fällt dann der Startschuss – das Absegeln und damit die letzte Regatta des Jahres! \nSpannung ist garantiert. ⛵🔥 Alle Teams können nochmal alles geben\, um sich auch den letzten Sieg des Jahres – und vielleicht sogar die Vereinsmeisterschaft 2025 zu schnappen. 🏆 \nNach der Regatta lassen wir es dann entspannt weitergehen: Es gibt voraussichtlich wieder Zwiebelkuchen und Federweißer\, also bleibt noch ein bisschen und lasst uns gemeinsam das Ende der Segelsaison feiern. 🍷🥧\nBitte gebt Bescheid\, ob ihr dabei seid! \nWir freuen uns auf viele Teilnehmer\, einen aufregenden Tag und einen entspannten Abend! \n  \nP.S.: Bitte tragt euch auch gleich den Stegabbau-Termin am 24. Oktober in euren Kalender ein. Hier wollen wir den Steg abbauen und die Vereinsboote abtakeln sowie den Platz und auch das Segelheim entrümpeln. \n 
URL:https://bamberger-segelclub.de/blog/event/absegeln_2026/
LOCATION:Bamberger Segelclub\, Pappelallee\, Sand\, 97522
CATEGORIES:Regatta,Vereinsveranstaltung
ATTACH;FMTTYPE=image/jpeg:https://www.bamberger-segelclub.de/blog/wp-content/uploads/2025/10/IMG_0910.jpg
END:VEVENT
BEGIN:VEVENT
DTSTART;TZID=Europe/Berlin:20261024T090000
DTEND;TZID=Europe/Berlin:20261024T170000
DTSTAMP:20260423T145746
CREATED:20251228T204344Z
LAST-MODIFIED:20251228T204653Z
UID:4670-1792832400-1792861200@bamberger-segelclub.de
SUMMARY:Stegabbau 2026
DESCRIPTION:Die Saison ist zuende: Der Steg wird abgebaut\, die Boote werden eingelagert und das Gelände wird winterfest gemacht. Wir brauchen so viele helfenden Hände wie möglich! Wenn alle unsere funkelnagelneu renovierten Stegteile aus dem Wasser sind und das Gelände winterfest ist\, wartet noch eine leckere kulinarische Belohnung auf die Beteiligten! \n 
URL:https://bamberger-segelclub.de/blog/event/stegabbau-2026/
LOCATION:Bamberger Segelclub\, Pappelallee\, Sand\, 97522
CATEGORIES:Vereinsveranstaltung
ATTACH;FMTTYPE=image/jpeg:https://www.bamberger-segelclub.de/blog/wp-content/uploads/2025/11/IMG_0405.jpg
END:VEVENT
BEGIN:VEVENT
DTSTART;TZID=Europe/Berlin:20261108T140000
DTEND;TZID=Europe/Berlin:20261108T170000
DTSTAMP:20260423T145746
CREATED:20251228T204444Z
LAST-MODIFIED:20251228T204706Z
UID:4671-1794146400-1794157200@bamberger-segelclub.de
SUMMARY:Wandertag des BASC 2025 – Sonntag\, 8.11.
DESCRIPTION:Wir können auch ohne Segelboot unterwegs sein: Wandertag des Vereins: \nVereinswanderung \nSamstag\, 08. November\, 14:00 Uhr \nTreffpunkt ist in Ebelsbach an der Kirche! \nDas Wetter wird perfekt für eine Herbstwanderung! 🍁\nWir laufen über die Weinberge hinauf zum Zeiler Käppele und kehren anschließend gemütlich in der Brauerei Göller ein.\n\nSten übernimmt am Ende den Shuttle-Service\, damit die Fahrer:innen ihre Autos wieder abholen können.\n 
URL:https://bamberger-segelclub.de/blog/event/wandertag-des-basc-2025-sonntag-8-11/
CATEGORIES:Vereinsveranstaltung
ATTACH;FMTTYPE=image/jpeg:https://www.bamberger-segelclub.de/blog/wp-content/uploads/2025/12/251108-Wandertag-2025-11-08-at-14.59.jpg
END:VEVENT
BEGIN:VEVENT
DTSTART;TZID=Europe/Berlin:20261121T180000
DTEND;TZID=Europe/Berlin:20261121T180000
DTSTAMP:20260423T145746
CREATED:20251228T204131Z
LAST-MODIFIED:20251228T204722Z
UID:4672-1795284000-1795284000@bamberger-segelclub.de
SUMMARY:Jahresessen des BASC 2026 und Weihnachtsfeier in der Mainlust
DESCRIPTION:Und zum Jahresende gönnen wir uns wieder ein entspanntes Essen in großer Runde mit Rückblick auf das vergangene Jahr\, Foto und Film – gleichzeitig unsere Vereinsweihnachtsfeier. Ein Höhepunkt ist natürlich die Ehrung unserer Vereinsmeisterschaft! \nWir würden uns sehr freuen\, wenn ihr zahlreich erscheint und wir wieder eine große Runde werden.\n \nSamstag\, 21. November – 18:00 Uhr\nGroßer Saal der Mainlust\, Hauptstraße 9\, 96191 Viereth-Trunstadt
URL:https://bamberger-segelclub.de/blog/event/jahresessen-des-basc-2025-und-weihnachtsfeier-in-der-mainlust/
LOCATION:Brauerei-Gasthof Mainlust\, Hauptstraße 9\, Viereth-Trunstadt\, 96191
CATEGORIES:Vereinsveranstaltung
ATTACH;FMTTYPE=image/jpeg:https://www.bamberger-segelclub.de/blog/wp-content/uploads/2025/12/IMG_3742.jpg
END:VEVENT
END:VCALENDAR